BEGIN:VCALENDAR
VERSION:2.0
PRODID:-//WIR Ganz Teetz e.V. - ECPv6.15.20//NONSGML v1.0//EN
CALSCALE:GREGORIAN
METHOD:PUBLISH
X-WR-CALNAME:WIR Ganz Teetz e.V.
X-ORIGINAL-URL:https://wir-ganz-teetz.de
X-WR-CALDESC:Veranstaltungen für WIR Ganz Teetz e.V.
REFRESH-INTERVAL;VALUE=DURATION:PT1H
X-Robots-Tag:noindex
X-PUBLISHED-TTL:PT1H
BEGIN:VTIMEZONE
TZID:Europe/Berlin
BEGIN:DAYLIGHT
TZOFFSETFROM:+0100
TZOFFSETTO:+0200
TZNAME:CEST
DTSTART:20250330T010000
END:DAYLIGHT
BEGIN:STANDARD
TZOFFSETFROM:+0200
TZOFFSETTO:+0100
TZNAME:CET
DTSTART:20251026T010000
END:STANDARD
BEGIN:DAYLIGHT
TZOFFSETFROM:+0100
TZOFFSETTO:+0200
TZNAME:CEST
DTSTART:20260329T010000
END:DAYLIGHT
BEGIN:STANDARD
TZOFFSETFROM:+0200
TZOFFSETTO:+0100
TZNAME:CET
DTSTART:20261025T010000
END:STANDARD
BEGIN:DAYLIGHT
TZOFFSETFROM:+0100
TZOFFSETTO:+0200
TZNAME:CEST
DTSTART:20270328T010000
END:DAYLIGHT
BEGIN:STANDARD
TZOFFSETFROM:+0200
TZOFFSETTO:+0100
TZNAME:CET
DTSTART:20271031T010000
END:STANDARD
END:VTIMEZONE
BEGIN:VEVENT
DTSTART;TZID=Europe/Berlin:20261108T080000
DTEND;TZID=Europe/Berlin:20261108T200000
DTSTAMP:20260424T123620
CREATED:20260325T114445Z
LAST-MODIFIED:20260325T114445Z
UID:373-1794124800-1794168000@wir-ganz-teetz.de
SUMMARY:Wahllokal - Bürgermeisterwahl Kyritz
DESCRIPTION:
URL:https://wir-ganz-teetz.de/event/wahllokal-buergermeisterwahl-kyritz/
LOCATION:Gemeindehaus\, Dossestraße 1\, Teetz\, Brandenburg\, 16866\, Germany
CATEGORIES:extern,Vereinsnutzung
ATTACH;FMTTYPE=image/jpeg:https://wir-ganz-teetz.de/wp-content/uploads/2026/03/wahlen.jpg
END:VEVENT
END:VCALENDAR