BEGIN:VCALENDAR
VERSION:2.0
PRODID:-//WIR Ganz Teetz e.V. - ECPv6.15.20//NONSGML v1.0//EN
CALSCALE:GREGORIAN
METHOD:PUBLISH
X-WR-CALNAME:WIR Ganz Teetz e.V.
X-ORIGINAL-URL:https://wir-ganz-teetz.de
X-WR-CALDESC:Veranstaltungen für WIR Ganz Teetz e.V.
REFRESH-INTERVAL;VALUE=DURATION:PT1H
X-Robots-Tag:noindex
X-PUBLISHED-TTL:PT1H
BEGIN:VTIMEZONE
TZID:Europe/Berlin
BEGIN:DAYLIGHT
TZOFFSETFROM:+0100
TZOFFSETTO:+0200
TZNAME:CEST
DTSTART:20250330T010000
END:DAYLIGHT
BEGIN:STANDARD
TZOFFSETFROM:+0200
TZOFFSETTO:+0100
TZNAME:CET
DTSTART:20251026T010000
END:STANDARD
BEGIN:DAYLIGHT
TZOFFSETFROM:+0100
TZOFFSETTO:+0200
TZNAME:CEST
DTSTART:20260329T010000
END:DAYLIGHT
BEGIN:STANDARD
TZOFFSETFROM:+0200
TZOFFSETTO:+0100
TZNAME:CET
DTSTART:20261025T010000
END:STANDARD
BEGIN:DAYLIGHT
TZOFFSETFROM:+0100
TZOFFSETTO:+0200
TZNAME:CEST
DTSTART:20270328T010000
END:DAYLIGHT
BEGIN:STANDARD
TZOFFSETFROM:+0200
TZOFFSETTO:+0100
TZNAME:CET
DTSTART:20271031T010000
END:STANDARD
END:VTIMEZONE
BEGIN:VEVENT
DTSTART;TZID=Europe/Berlin:20260206T080000
DTEND;TZID=Europe/Berlin:20260207T140000
DTSTAMP:20260422T140131
CREATED:20260204T085147Z
LAST-MODIFIED:20260204T085147Z
UID:334-1770364800-1770472800@wir-ganz-teetz.de
SUMMARY:Private Nutzung
DESCRIPTION:
URL:https://wir-ganz-teetz.de/event/private-nutzung-2-2-3/
LOCATION:Gemeindehaus\, Dossestraße 1\, Teetz\, Brandenburg\, 16866\, Germany
CATEGORIES:privat
ATTACH;FMTTYPE=image/jpeg:https://wir-ganz-teetz.de/wp-content/uploads/2025/05/champagne-4736380_1280_3RMC.jpg
END:VEVENT
END:VCALENDAR