BEGIN:VCALENDAR
VERSION:2.0
PRODID:-//WIR Ganz Teetz e.V. - ECPv6.15.20//NONSGML v1.0//EN
CALSCALE:GREGORIAN
METHOD:PUBLISH
X-WR-CALNAME:WIR Ganz Teetz e.V.
X-ORIGINAL-URL:https://wir-ganz-teetz.de
X-WR-CALDESC:Veranstaltungen für WIR Ganz Teetz e.V.
REFRESH-INTERVAL;VALUE=DURATION:PT1H
X-Robots-Tag:noindex
X-PUBLISHED-TTL:PT1H
BEGIN:VTIMEZONE
TZID:Europe/Berlin
BEGIN:DAYLIGHT
TZOFFSETFROM:+0100
TZOFFSETTO:+0200
TZNAME:CEST
DTSTART:20250330T010000
END:DAYLIGHT
BEGIN:STANDARD
TZOFFSETFROM:+0200
TZOFFSETTO:+0100
TZNAME:CET
DTSTART:20251026T010000
END:STANDARD
BEGIN:DAYLIGHT
TZOFFSETFROM:+0100
TZOFFSETTO:+0200
TZNAME:CEST
DTSTART:20260329T010000
END:DAYLIGHT
BEGIN:STANDARD
TZOFFSETFROM:+0200
TZOFFSETTO:+0100
TZNAME:CET
DTSTART:20261025T010000
END:STANDARD
BEGIN:DAYLIGHT
TZOFFSETFROM:+0100
TZOFFSETTO:+0200
TZNAME:CEST
DTSTART:20270328T010000
END:DAYLIGHT
BEGIN:STANDARD
TZOFFSETFROM:+0200
TZOFFSETTO:+0100
TZNAME:CET
DTSTART:20271031T010000
END:STANDARD
END:VTIMEZONE
BEGIN:VEVENT
DTSTART;VALUE=DATE:20260110
DTEND;VALUE=DATE:20260111
DTSTAMP:20260422T154253
CREATED:20251117T091459Z
LAST-MODIFIED:20251117T091459Z
UID:307-1768003200-1768089599@wir-ganz-teetz.de
SUMMARY:Private Nutzung
DESCRIPTION:
URL:https://wir-ganz-teetz.de/event/private-nutzung-2/
LOCATION:Gemeindehaus\, Dossestraße 1\, Teetz\, Brandenburg\, 16866\, Germany
CATEGORIES:privat
ATTACH;FMTTYPE=image/jpeg:https://wir-ganz-teetz.de/wp-content/uploads/2025/05/champagne-4736380_1280_3RMC.jpg
END:VEVENT
BEGIN:VEVENT
DTSTART;TZID=Europe/Berlin:20260116T080000
DTEND;TZID=Europe/Berlin:20260117T140000
DTSTAMP:20260422T154253
CREATED:20260107T113853Z
LAST-MODIFIED:20260107T113853Z
UID:324-1768550400-1768658400@wir-ganz-teetz.de
SUMMARY:Private Nutzung
DESCRIPTION:
URL:https://wir-ganz-teetz.de/event/private-nutzung-2-2-2/
LOCATION:Gemeindehaus\, Dossestraße 1\, Teetz\, Brandenburg\, 16866\, Germany
CATEGORIES:privat
ATTACH;FMTTYPE=image/jpeg:https://wir-ganz-teetz.de/wp-content/uploads/2025/05/champagne-4736380_1280_3RMC.jpg
END:VEVENT
BEGIN:VEVENT
DTSTART;TZID=Europe/Berlin:20260117T180000
DTEND;TZID=Europe/Berlin:20260117T210000
DTSTAMP:20260422T154253
CREATED:20251210T181402Z
LAST-MODIFIED:20251210T181402Z
UID:320-1768672800-1768683600@wir-ganz-teetz.de
SUMMARY:Vortrag Kent Monkman - Reisebericht Museum of Fine Arts Montreal
DESCRIPTION:Auf meiner Reise durch Kanada mit seinen Bars\, Musikern und Museen hatte ich die wunderbare Gelegenheit eine exklusive Soloausstellung von Kent Monkman besuchen zu dürfen. Der derzeit wohl wichtigste lebende Gegenwartskünstler Kanadas wurde mit einer Werkretrospektive geehrt. Inhalte der Werke sind sowohl queere Themen sowie Inhalte der Unterdrückung der First Nation von Nordamerika. Das Museum schreibt auf der Website: „Im Zentrum dieser Themen stehen die Klimakrise und der Umweltschutz\, die Auswirkungen staatlicher Maßnahmen auf indigene Gemeinschaften\, generationenübergreifende Traumata und die Anerkennung der Identität von Two-Spirit-\, queeren und trans-indigenen Gemeinschaften.“ \nhttps://www.mbam.qc.ca/en/exhibitions/kent-monkman/ \nMich hat dieser Besuch tief beeindruckt und ich möchte unserer Gemeinschaft davon berichten. \nFilm\, max. 20 Minuten\, 15 Minuten Vortrag\, Anschließend Gespräch und Geselliges. \nLiebe Grüße\nThilo
URL:https://wir-ganz-teetz.de/event/vortrag-kent-monkman-reisebericht-museum-of-fine-arts-montreal/
LOCATION:Gemeindehaus\, Dossestraße 1\, Teetz\, Brandenburg\, 16866\, Germany
CATEGORIES:Vereinsnutzung
ATTACH;FMTTYPE=image/png:https://wir-ganz-teetz.de/wp-content/uploads/2025/12/Screenshot-2025-12-10-191333.png
END:VEVENT
BEGIN:VEVENT
DTSTART;TZID=Europe/Berlin:20260122T190000
DTEND;TZID=Europe/Berlin:20260122T230000
DTSTAMP:20260422T154253
CREATED:20260112T095506Z
LAST-MODIFIED:20260112T095506Z
UID:327-1769108400-1769122800@wir-ganz-teetz.de
SUMMARY:Was Sie schon immer über 3D-Druck wissen wollten – oder warum es gut ist zu wissen\, dass der Nachbar so etwas kann
DESCRIPTION:In den letzten Monaten bin ich hier im Dorf hin und wieder auf das Thema 3D-Druck angesprochen worden. \nDabei kamen oft ähnliche Fragen auf:\n* Was kann man damit eigentlich machen?\n* Ist das nur Spielerei?\n* Oder hilft das im Alltag wirklich? \nAus diesen Gesprächen ist die Idee entstanden\, das Thema einmal gebündelt in einem kleinen Vortrag mit Gesprächsrunde und Demonstration vorzustellen. \nDer Abend richtet sich bewusst an alle – auch an diejenigen\, die nicht vorhaben\, sich selbst einen 3D-Drucker zu kaufen. \nEs soll nicht um technische Details gehen\, sondern um den praktischen Nutzen.\nZum Beispiel:\n* Lohnt es sich\, wenn ein Lieblings-Handtuchhaken\, ein abgebrochener Plastikclip oder ein anderes Kunststoffteil kaputt gehen?\n* Wann kann ein 3D-Drucker helfen – und wann eher nicht?\n* Reicht es vielleicht schon\, zu wissen\, wer im Dorf so etwas kann? \nZiel ist es\, einen realistischen Eindruck vom 3D-Druck zu vermitteln und möglichst viele Fragen zu beantworten. \nThemenübersicht\n* Was ist 3D-Druck überhaupt?\n* Wie funktioniert so ein Gerät?\n* Grundprinzip\, Material\, Ablauf\n* Was kann man sinnvoll drucken – und was nicht?\n* Lohnt sich ein eigener 3D-Drucker?\n* Oder ist es besser\, jemanden zu kennen\, der einen hat?\n* Woher kommen die Modelle?\n* Fertige Vorlagen\, einfache Anpassungen\n* Kurze Demonstration\n* Offene Fragerunde \nAls Termin habe ich mir den 22.1.26\, 19 Uhr im Gemeindehaus ausgesucht. Ich freue mich\, wenn der/die eine oder andere Lust und Zeit darauf hat. \nLiebe Grüße\nHenry
URL:https://wir-ganz-teetz.de/event/was-sie-schon-immer-ueber-3d-druck-wissen-wollten-oder-warum-es-gut-ist-zu-wissen-dass-der-nachbar-so-etwas-kann/
LOCATION:Gemeindehaus\, Dossestraße 1\, Teetz\, Brandenburg\, 16866\, Germany
CATEGORIES:Vereinsnutzung
ATTACH;FMTTYPE=image/jpeg:https://wir-ganz-teetz.de/wp-content/uploads/2026/01/3d-drucker-symbolbild-undplash.jpg
END:VEVENT
BEGIN:VEVENT
DTSTART;TZID=Europe/Berlin:20260130T163000
DTEND;TZID=Europe/Berlin:20260130T190000
DTSTAMP:20260422T154253
CREATED:20260114T081054Z
LAST-MODIFIED:20260114T081054Z
UID:330-1769790600-1769799600@wir-ganz-teetz.de
SUMMARY:Kinder-Kochkurs
DESCRIPTION:Mit Petra was Leckeres zaubern.
URL:https://wir-ganz-teetz.de/event/kinder-kochkurs/
LOCATION:Gemeindehaus\, Dossestraße 1\, Teetz\, Brandenburg\, 16866\, Germany
CATEGORIES:Vereinsnutzung
ATTACH;FMTTYPE=image/jpeg:https://wir-ganz-teetz.de/wp-content/uploads/2025/05/mushrooms-8058299_1280_uJnx.jpg
END:VEVENT
END:VCALENDAR