BEGIN:VCALENDAR
VERSION:2.0
PRODID:-//WIR Ganz Teetz e.V. - ECPv6.15.20//NONSGML v1.0//EN
CALSCALE:GREGORIAN
METHOD:PUBLISH
X-WR-CALNAME:WIR Ganz Teetz e.V.
X-ORIGINAL-URL:https://wir-ganz-teetz.de
X-WR-CALDESC:Veranstaltungen für WIR Ganz Teetz e.V.
REFRESH-INTERVAL;VALUE=DURATION:PT1H
X-Robots-Tag:noindex
X-PUBLISHED-TTL:PT1H
BEGIN:VTIMEZONE
TZID:Europe/Berlin
BEGIN:DAYLIGHT
TZOFFSETFROM:+0100
TZOFFSETTO:+0200
TZNAME:CEST
DTSTART:20240331T010000
END:DAYLIGHT
BEGIN:STANDARD
TZOFFSETFROM:+0200
TZOFFSETTO:+0100
TZNAME:CET
DTSTART:20241027T010000
END:STANDARD
BEGIN:DAYLIGHT
TZOFFSETFROM:+0100
TZOFFSETTO:+0200
TZNAME:CEST
DTSTART:20250330T010000
END:DAYLIGHT
BEGIN:STANDARD
TZOFFSETFROM:+0200
TZOFFSETTO:+0100
TZNAME:CET
DTSTART:20251026T010000
END:STANDARD
BEGIN:DAYLIGHT
TZOFFSETFROM:+0100
TZOFFSETTO:+0200
TZNAME:CEST
DTSTART:20260329T010000
END:DAYLIGHT
BEGIN:STANDARD
TZOFFSETFROM:+0200
TZOFFSETTO:+0100
TZNAME:CET
DTSTART:20261025T010000
END:STANDARD
END:VTIMEZONE
BEGIN:VEVENT
DTSTART;TZID=Europe/Berlin:20251203T180000
DTEND;TZID=Europe/Berlin:20251203T190000
DTSTAMP:20260422T173147
CREATED:20250903T185655Z
LAST-MODIFIED:20250903T185655Z
UID:254-1764784800-1764788400@wir-ganz-teetz.de
SUMMARY:Sport für Sportys
DESCRIPTION:Es sportelt wieder in Ganz Teetz
URL:https://wir-ganz-teetz.de/event/sport-fuer-sportys-8-5/
LOCATION:Gemeindehaus\, Dossestraße 1\, Teetz\, Brandenburg\, 16866\, Germany
CATEGORIES:Sportangebot,Vereinsnutzung
ATTACH;FMTTYPE=image/avif:https://wir-ganz-teetz.de/wp-content/uploads/2025/09/flache-hand-gezeichnete-tanzfitnessklasseillustration_52683-56671.avif
END:VEVENT
BEGIN:VEVENT
DTSTART;TZID=Europe/Berlin:20251205T190000
DTEND;TZID=Europe/Berlin:20251205T210000
DTSTAMP:20260422T173147
CREATED:20251004T131414Z
LAST-MODIFIED:20251004T131414Z
UID:286-1764961200-1764968400@wir-ganz-teetz.de
SUMMARY:Chorprobe
DESCRIPTION:
URL:https://wir-ganz-teetz.de/event/chorprobe-4-6/
LOCATION:Gemeindehaus\, Dossestraße 1\, Teetz\, Brandenburg\, 16866\, Germany
CATEGORIES:Vereinsnutzung
ATTACH;FMTTYPE=image/jpeg:https://wir-ganz-teetz.de/wp-content/uploads/2025/05/piano-2617007_1280_ehrU.jpg
END:VEVENT
BEGIN:VEVENT
DTSTART;TZID=Europe/Berlin:20251206T120000
DTEND;TZID=Europe/Berlin:20251206T160000
DTSTAMP:20260422T173147
CREATED:20251118T164746Z
LAST-MODIFIED:20251118T164746Z
UID:315-1765022400-1765036800@wir-ganz-teetz.de
SUMMARY:Rentnerweihnachtsfeier
DESCRIPTION:
URL:https://wir-ganz-teetz.de/event/rentnerweihnachtsfeier/
LOCATION:Gemeindehaus\, Dossestraße 1\, Teetz\, Brandenburg\, 16866\, Germany
ATTACH;FMTTYPE=image/png:https://wir-ganz-teetz.de/wp-content/uploads/2025/11/ChatGPT-Image-16.-Nov.-2025-14_47_30.png
END:VEVENT
BEGIN:VEVENT
DTSTART;TZID=Europe/Berlin:20251206T163000
DTEND;TZID=Europe/Berlin:20251206T170000
DTSTAMP:20260422T173147
CREATED:20251118T164831Z
LAST-MODIFIED:20251118T164851Z
UID:317-1765038600-1765040400@wir-ganz-teetz.de
SUMMARY:Singen in der Kirche
DESCRIPTION:
URL:https://wir-ganz-teetz.de/event/singen-in-der-kirche/
LOCATION:Kirche Teetz\, Dorfplatz\, Teetz\, Germany
CATEGORIES:Vereinsnutzung
ATTACH;FMTTYPE=image/jpeg:https://wir-ganz-teetz.de/wp-content/uploads/2025/03/2024-06-23-DossefestEnde-1.jpg
END:VEVENT
BEGIN:VEVENT
DTSTART;TZID=Europe/Berlin:20251206T170000
DTEND;TZID=Europe/Berlin:20251206T210000
DTSTAMP:20260422T173147
CREATED:20251118T164504Z
LAST-MODIFIED:20251118T164632Z
UID:311-1765040400-1765054800@wir-ganz-teetz.de
SUMMARY:Weihnachtsmarkt Ganz/Teetz
DESCRIPTION:17:00 Uhr Beginn Weihnachtsmarkt\n17:45 Uhr Weihnachtliches Chorsingen\n18:00 Uhr Der Weihnachstmann komm
URL:https://wir-ganz-teetz.de/event/weihnachtsmarkt-ganz-teetz/
LOCATION:Gemeindehaus\, Dossestraße 1\, Teetz\, Brandenburg\, 16866\, Germany
CATEGORIES:Vereinsnutzung
ATTACH;FMTTYPE=image/png:https://wir-ganz-teetz.de/wp-content/uploads/2025/11/ChatGPT-Image-16.-Nov.-2025-14_47_37.png
END:VEVENT
BEGIN:VEVENT
DTSTART;TZID=Europe/Berlin:20251213T080000
DTEND;TZID=Europe/Berlin:20251213T235900
DTSTAMP:20260422T173147
CREATED:20251101T153152Z
LAST-MODIFIED:20251101T153152Z
UID:304-1765612800-1765670340@wir-ganz-teetz.de
SUMMARY:Private Nutzung
DESCRIPTION:
URL:https://wir-ganz-teetz.de/event/private-nutzung/
LOCATION:Gemeindehaus\, Dossestraße 1\, Teetz\, Brandenburg\, 16866\, Germany
CATEGORIES:privat
ATTACH;FMTTYPE=image/jpeg:https://wir-ganz-teetz.de/wp-content/uploads/2025/05/champagne-4736380_1280_3RMC.jpg
END:VEVENT
BEGIN:VEVENT
DTSTART;TZID=Europe/Berlin:20251219T190000
DTEND;TZID=Europe/Berlin:20251219T210000
DTSTAMP:20260422T173147
CREATED:20251004T131446Z
LAST-MODIFIED:20251004T131446Z
UID:282-1766170800-1766178000@wir-ganz-teetz.de
SUMMARY:Chorprobe
DESCRIPTION:
URL:https://wir-ganz-teetz.de/event/chorprobe-4-7/
LOCATION:Gemeindehaus\, Dossestraße 1\, Teetz\, Brandenburg\, 16866\, Germany
CATEGORIES:Vereinsnutzung
ATTACH;FMTTYPE=image/jpeg:https://wir-ganz-teetz.de/wp-content/uploads/2025/05/piano-2617007_1280_ehrU.jpg
END:VEVENT
END:VCALENDAR