BEGIN:VCALENDAR
VERSION:2.0
PRODID:-//WIR Ganz Teetz e.V. - ECPv6.15.20//NONSGML v1.0//EN
CALSCALE:GREGORIAN
METHOD:PUBLISH
X-WR-CALNAME:WIR Ganz Teetz e.V.
X-ORIGINAL-URL:https://wir-ganz-teetz.de
X-WR-CALDESC:Veranstaltungen für WIR Ganz Teetz e.V.
REFRESH-INTERVAL;VALUE=DURATION:PT1H
X-Robots-Tag:noindex
X-PUBLISHED-TTL:PT1H
BEGIN:VTIMEZONE
TZID:Europe/Berlin
BEGIN:DAYLIGHT
TZOFFSETFROM:+0100
TZOFFSETTO:+0200
TZNAME:CEST
DTSTART:20240331T010000
END:DAYLIGHT
BEGIN:STANDARD
TZOFFSETFROM:+0200
TZOFFSETTO:+0100
TZNAME:CET
DTSTART:20241027T010000
END:STANDARD
BEGIN:DAYLIGHT
TZOFFSETFROM:+0100
TZOFFSETTO:+0200
TZNAME:CEST
DTSTART:20250330T010000
END:DAYLIGHT
BEGIN:STANDARD
TZOFFSETFROM:+0200
TZOFFSETTO:+0100
TZNAME:CET
DTSTART:20251026T010000
END:STANDARD
BEGIN:DAYLIGHT
TZOFFSETFROM:+0100
TZOFFSETTO:+0200
TZNAME:CEST
DTSTART:20260329T010000
END:DAYLIGHT
BEGIN:STANDARD
TZOFFSETFROM:+0200
TZOFFSETTO:+0100
TZNAME:CET
DTSTART:20261025T010000
END:STANDARD
END:VTIMEZONE
BEGIN:VEVENT
DTSTART;TZID=Europe/Berlin:20250910T180000
DTEND;TZID=Europe/Berlin:20250910T190000
DTSTAMP:20260424T122215
CREATED:20250903T184525Z
LAST-MODIFIED:20250903T184525Z
UID:230-1757527200-1757530800@wir-ganz-teetz.de
SUMMARY:Sport für Sportys
DESCRIPTION:Es sportelt wieder in Ganz Teetz
URL:https://wir-ganz-teetz.de/event/sport-fuer-sportys/
LOCATION:Gemeindehaus\, Dossestraße 1\, Teetz\, Brandenburg\, 16866\, Germany
ATTACH;FMTTYPE=image/avif:https://wir-ganz-teetz.de/wp-content/uploads/2025/09/flache-hand-gezeichnete-tanzfitnessklasseillustration_52683-56671.avif
END:VEVENT
BEGIN:VEVENT
DTSTART;TZID=Europe/Berlin:20250912T183000
DTEND;TZID=Europe/Berlin:20250912T220000
DTSTAMP:20260424T122215
CREATED:20250903T185841Z
LAST-MODIFIED:20250903T185841Z
UID:260-1757701800-1757714400@wir-ganz-teetz.de
SUMMARY:Tischtennis
DESCRIPTION:Bei Sarah LM melden
URL:https://wir-ganz-teetz.de/event/tischtennis-3-2/
LOCATION:Gemeindehaus\, Dossestraße 1\, Teetz\, Brandenburg\, 16866\, Germany
CATEGORIES:Sportangebot,Vereinsnutzung
ATTACH;FMTTYPE=image/jpeg:https://wir-ganz-teetz.de/wp-content/uploads/2025/05/eK3EOrfyJcu4.jpg
END:VEVENT
BEGIN:VEVENT
DTSTART;TZID=Europe/Berlin:20250917T180000
DTEND;TZID=Europe/Berlin:20250917T190000
DTSTAMP:20260424T122215
CREATED:20250903T184826Z
LAST-MODIFIED:20250903T184826Z
UID:228-1758132000-1758135600@wir-ganz-teetz.de
SUMMARY:Sport für Sporties
DESCRIPTION:
URL:https://wir-ganz-teetz.de/event/sport-fuer-sporties/
LOCATION:Gemeindehaus\, Dossestraße 1\, Teetz\, Brandenburg\, 16866\, Germany
ATTACH;FMTTYPE=image/avif:https://wir-ganz-teetz.de/wp-content/uploads/2025/09/flache-hand-gezeichnete-tanzfitnessklasseillustration_52683-56671.avif
END:VEVENT
BEGIN:VEVENT
DTSTART;TZID=Europe/Berlin:20250924T180000
DTEND;TZID=Europe/Berlin:20250924T190000
DTSTAMP:20260424T122215
CREATED:20250903T184909Z
LAST-MODIFIED:20250903T184918Z
UID:233-1758736800-1758740400@wir-ganz-teetz.de
SUMMARY:Sport für Sportys
DESCRIPTION:Es sportelt wieder in Ganz Teetz
URL:https://wir-ganz-teetz.de/event/sport-fuer-sportys-2/
LOCATION:Gemeindehaus\, Dossestraße 1\, Teetz\, Brandenburg\, 16866\, Germany
ATTACH;FMTTYPE=image/avif:https://wir-ganz-teetz.de/wp-content/uploads/2025/09/flache-hand-gezeichnete-tanzfitnessklasseillustration_52683-56671.avif
END:VEVENT
BEGIN:VEVENT
DTSTART;TZID=Europe/Berlin:20250926T190000
DTEND;TZID=Europe/Berlin:20250926T220000
DTSTAMP:20260424T122215
CREATED:20250506T172528Z
LAST-MODIFIED:20250901T085005Z
UID:191-1758913200-1758924000@wir-ganz-teetz.de
SUMMARY:Chorprobe
DESCRIPTION:
URL:https://wir-ganz-teetz.de/event/chorprobe-4/
LOCATION:Gemeindehaus\, Dossestraße 1\, Teetz\, Brandenburg\, 16866\, Germany
CATEGORIES:Vereinsnutzung
ATTACH;FMTTYPE=image/jpeg:https://wir-ganz-teetz.de/wp-content/uploads/2025/05/piano-2617007_1280_ehrU.jpg
END:VEVENT
BEGIN:VEVENT
DTSTART;TZID=Europe/Berlin:20250928T080000
DTEND;TZID=Europe/Berlin:20250928T220000
DTSTAMP:20260424T122215
CREATED:20250911T115504Z
LAST-MODIFIED:20250911T115504Z
UID:263-1759046400-1759096800@wir-ganz-teetz.de
SUMMARY:Chorfest
DESCRIPTION:Im Rahmen des Pyrit Festival erlebt die Teetzer Kirche einen Auftritt verschiedener Chöre. \nMehr Informationen hier \nBeginn 15 Uhr in der Kirche. \nAls Vorbereitungsraum wird dazu das Gemeindehaus benötig. \nGern.
URL:https://wir-ganz-teetz.de/event/chorfest/
LOCATION:Gemeindehaus\, Dossestraße 1\, Teetz\, Brandenburg\, 16866\, Germany
CATEGORIES:extern,Vereinsnutzung
ATTACH;FMTTYPE=image/png:https://wir-ganz-teetz.de/wp-content/uploads/2025/09/Screenshot-2025-09-11-135414.png
END:VEVENT
END:VCALENDAR