BEGIN:VCALENDAR
VERSION:2.0
PRODID:-//WIR Ganz Teetz e.V. - ECPv6.15.20//NONSGML v1.0//EN
CALSCALE:GREGORIAN
METHOD:PUBLISH
X-WR-CALNAME:WIR Ganz Teetz e.V.
X-ORIGINAL-URL:https://wir-ganz-teetz.de
X-WR-CALDESC:Veranstaltungen für WIR Ganz Teetz e.V.
REFRESH-INTERVAL;VALUE=DURATION:PT1H
X-Robots-Tag:noindex
X-PUBLISHED-TTL:PT1H
BEGIN:VTIMEZONE
TZID:Europe/Berlin
BEGIN:DAYLIGHT
TZOFFSETFROM:+0100
TZOFFSETTO:+0200
TZNAME:CEST
DTSTART:20240331T010000
END:DAYLIGHT
BEGIN:STANDARD
TZOFFSETFROM:+0200
TZOFFSETTO:+0100
TZNAME:CET
DTSTART:20241027T010000
END:STANDARD
BEGIN:DAYLIGHT
TZOFFSETFROM:+0100
TZOFFSETTO:+0200
TZNAME:CEST
DTSTART:20250330T010000
END:DAYLIGHT
BEGIN:STANDARD
TZOFFSETFROM:+0200
TZOFFSETTO:+0100
TZNAME:CET
DTSTART:20251026T010000
END:STANDARD
BEGIN:DAYLIGHT
TZOFFSETFROM:+0100
TZOFFSETTO:+0200
TZNAME:CEST
DTSTART:20260329T010000
END:DAYLIGHT
BEGIN:STANDARD
TZOFFSETFROM:+0200
TZOFFSETTO:+0100
TZNAME:CET
DTSTART:20261025T010000
END:STANDARD
END:VTIMEZONE
BEGIN:VEVENT
DTSTART;VALUE=DATE:20250509
DTEND;VALUE=DATE:20250512
DTSTAMP:20260424T182714
CREATED:20250506T170818Z
LAST-MODIFIED:20250506T170818Z
UID:177-1746748800-1747007999@wir-ganz-teetz.de
SUMMARY:Belegt extern
DESCRIPTION:
URL:https://wir-ganz-teetz.de/event/belegt-extern/
LOCATION:Gemeindehaus\, Dossestraße 1\, Teetz\, Brandenburg\, 16866\, Germany
CATEGORIES:privat
ATTACH;FMTTYPE=image/jpeg:https://wir-ganz-teetz.de/wp-content/uploads/2025/02/IMG_0550.jpeg
END:VEVENT
BEGIN:VEVENT
DTSTART;TZID=Europe/Berlin:20250514T200000
DTEND;TZID=Europe/Berlin:20250514T233000
DTSTAMP:20260424T182714
CREATED:20250506T171034Z
LAST-MODIFIED:20250506T171034Z
UID:179-1747252800-1747265400@wir-ganz-teetz.de
SUMMARY:Förderverein Dorfkirche
DESCRIPTION:
URL:https://wir-ganz-teetz.de/event/foerderverein-dorfkirche/
LOCATION:Gemeindehaus\, Dossestraße 1\, Teetz\, Brandenburg\, 16866\, Germany
CATEGORIES:Vereinsnutzung
ATTACH;FMTTYPE=image/jpeg:https://wir-ganz-teetz.de/wp-content/uploads/2025/05/4EFT4OASEVF5AHFVOE37Y45TBQ_SWSM.jpg
END:VEVENT
BEGIN:VEVENT
DTSTART;TZID=Europe/Berlin:20250523T163000
DTEND;TZID=Europe/Berlin:20250523T190000
DTSTAMP:20260424T182714
CREATED:20250512T105807Z
LAST-MODIFIED:20250512T110146Z
UID:211-1748017800-1748026800@wir-ganz-teetz.de
SUMMARY:Kinder-Koch-Kurs
DESCRIPTION:
URL:https://wir-ganz-teetz.de/event/kinder-koch-kurs/
LOCATION:Gemeindehaus\, Dossestraße 1\, Teetz\, Brandenburg\, 16866\, Germany
CATEGORIES:Vereinsnutzung
ATTACH;FMTTYPE=image/jpeg:https://wir-ganz-teetz.de/wp-content/uploads/2025/05/mushrooms-8058299_1280_uJnx.jpg
END:VEVENT
BEGIN:VEVENT
DTSTART;TZID=Europe/Berlin:20250523T190000
DTEND;TZID=Europe/Berlin:20250523T220000
DTSTAMP:20260424T182714
CREATED:20250506T171320Z
LAST-MODIFIED:20250506T171320Z
UID:182-1748026800-1748037600@wir-ganz-teetz.de
SUMMARY:Chorprobe
DESCRIPTION:
URL:https://wir-ganz-teetz.de/event/chorprobe/
LOCATION:Gemeindehaus\, Dossestraße 1\, Teetz\, Brandenburg\, 16866\, Germany
CATEGORIES:Vereinsnutzung
ATTACH;FMTTYPE=image/jpeg:https://wir-ganz-teetz.de/wp-content/uploads/2025/05/piano-2617007_1280_ehrU.jpg
END:VEVENT
BEGIN:VEVENT
DTSTART;VALUE=DATE:20250525
DTEND;VALUE=DATE:20250526
DTSTAMP:20260424T182714
CREATED:20250506T172701Z
LAST-MODIFIED:20250506T172701Z
UID:193-1748131200-1748217599@wir-ganz-teetz.de
SUMMARY:Kirchenverein
DESCRIPTION:
URL:https://wir-ganz-teetz.de/event/kirchenverein/
LOCATION:Gemeindehaus\, Dossestraße 1\, Teetz\, Brandenburg\, 16866\, Germany
CATEGORIES:Vereinsnutzung
ATTACH;FMTTYPE=image/jpeg:https://wir-ganz-teetz.de/wp-content/uploads/2025/02/IMG_0552.jpeg
END:VEVENT
BEGIN:VEVENT
DTSTART;TZID=Europe/Berlin:20250525T143000
DTEND;TZID=Europe/Berlin:20250525T160000
DTSTAMP:20260424T182714
CREATED:20250519T073303Z
LAST-MODIFIED:20250519T073303Z
UID:217-1748183400-1748188800@wir-ganz-teetz.de
SUMMARY:Chor-Konzert in der Dorfkirche Teetz
DESCRIPTION:
URL:https://wir-ganz-teetz.de/event/chor-konzert-in-der-dorfkirche-teetz/
LOCATION:Kirche Teetz\, Dorfplatz\, Teetz\, Germany
ATTACH;FMTTYPE=image/jpeg:https://wir-ganz-teetz.de/wp-content/uploads/2025/02/IMG_0552.jpeg
END:VEVENT
BEGIN:VEVENT
DTSTART;TZID=Europe/Berlin:20250530T190000
DTEND;TZID=Europe/Berlin:20250530T220000
DTSTAMP:20260424T182714
CREATED:20250522T083641Z
LAST-MODIFIED:20250522T083641Z
UID:220-1748631600-1748642400@wir-ganz-teetz.de
SUMMARY:Tischtennis
DESCRIPTION:
URL:https://wir-ganz-teetz.de/event/tischtennis-2/
LOCATION:Gemeindehaus\, Dossestraße 1\, Teetz\, Brandenburg\, 16866\, Germany
CATEGORIES:Sportangebot,Vereinsnutzung
ATTACH;FMTTYPE=image/jpeg:https://wir-ganz-teetz.de/wp-content/uploads/2025/05/eK3EOrfyJcu4.jpg
END:VEVENT
END:VCALENDAR